BEGIN:VCALENDAR
VERSION:2.0
PRODID:-//wp-events-plugin.com//7.2.3.1//EN
BEGIN:VEVENT
UID:0-20@reconopenluchtschool.nl
DTSTART;TZID=Europe/Amsterdam:20260211T000000
DTEND;TZID=Europe/Amsterdam:20260211T000000
DTSTAMP:20250814T102903Z
URL:https://reconopenluchtschool.nl/vso/events/voortgangsgesprekavond-3/
SUMMARY:Voortgangsgesprekavond
DESCRIPTION:
END:VEVENT
BEGIN:VTIMEZONE
TZID:Europe/Amsterdam
X-LIC-LOCATION:Europe/Amsterdam
BEGIN:STANDARD
DTSTART:20251026T020000
TZOFFSETFROM:+0200
TZOFFSETTO:+0100
TZNAME:CET
END:STANDARD
END:VTIMEZONE
END:VCALENDAR