BEGIN:VCALENDAR
VERSION:2.0
PRODID:-//wp-events-plugin.com//7.2.3.1//EN
BEGIN:VEVENT
UID:0-11@reconopenluchtschool.nl
DTSTART;TZID=Europe/Amsterdam:20260216T000000
DTEND;TZID=Europe/Amsterdam:20260220T000000
DTSTAMP:20250814T101759Z
URL:https://reconopenluchtschool.nl/vso/events/voorjaarsvakantie-5/
SUMMARY:Voorjaarsvakantie
DESCRIPTION:
END:VEVENT
BEGIN:VTIMEZONE
TZID:Europe/Amsterdam
X-LIC-LOCATION:Europe/Amsterdam
BEGIN:STANDARD
DTSTART:20251026T020000
TZOFFSETFROM:+0200
TZOFFSETTO:+0100
TZNAME:CET
END:STANDARD
END:VTIMEZONE
END:VCALENDAR