BEGIN:VCALENDAR
VERSION:2.0
PRODID:-//wp-events-plugin.com//7.2.3.1//EN
BEGIN:VEVENT
UID:0-19@reconopenluchtschool.nl
DTSTART;TZID=Europe/Amsterdam:20251125T000000
DTEND;TZID=Europe/Amsterdam:20251125T000000
DTSTAMP:20250814T102825Z
URL:https://reconopenluchtschool.nl/vso/events/thema-ouderavond-4/
SUMMARY:Thema-ouderavond
DESCRIPTION:
END:VEVENT
BEGIN:VTIMEZONE
TZID:Europe/Amsterdam
X-LIC-LOCATION:Europe/Amsterdam
BEGIN:STANDARD
DTSTART:20251026T020000
TZOFFSETFROM:+0200
TZOFFSETTO:+0100
TZNAME:CET
END:STANDARD
END:VTIMEZONE
END:VCALENDAR