BEGIN:VCALENDAR
VERSION:2.0
PRODID:-//wp-events-plugin.com//7.2.3.1//EN
BEGIN:VEVENT
UID:0-26@reconopenluchtschool.nl
DTSTART;TZID=Europe/Amsterdam;VALUE=DATE:20260105
DTEND;TZID=Europe/Amsterdam;VALUE=DATE:20260106
DTSTAMP:20251218T080059Z
URL:https://reconopenluchtschool.nl/vso/events/studiedag-alle-leerlingen-v
 rij/
SUMMARY:Roostervrije dag voor alle klassen
DESCRIPTION:
END:VEVENT
BEGIN:VTIMEZONE
TZID:Europe/Amsterdam
X-LIC-LOCATION:Europe/Amsterdam
BEGIN:STANDARD
DTSTART:20251026T020000
TZOFFSETFROM:+0200
TZOFFSETTO:+0100
TZNAME:CET
END:STANDARD
END:VTIMEZONE
END:VCALENDAR