BEGIN:VCALENDAR
VERSION:2.0
PRODID:-//wp-events-plugin.com//7.2.3.1//EN
BEGIN:VEVENT
UID:0-12@reconopenluchtschool.nl
DTSTART;TZID=Europe/Amsterdam:20260305T000000
DTEND;TZID=Europe/Amsterdam:20260305T000000
DTSTAMP:20250814T101842Z
URL:https://reconopenluchtschool.nl/vso/events/roostervrije-dag-voor-alle-
 klassen-3/
SUMMARY:Roostervrije dag voor alle klassen
DESCRIPTION:
END:VEVENT
BEGIN:VTIMEZONE
TZID:Europe/Amsterdam
X-LIC-LOCATION:Europe/Amsterdam
BEGIN:STANDARD
DTSTART:20251026T020000
TZOFFSETFROM:+0200
TZOFFSETTO:+0100
TZNAME:CET
END:STANDARD
END:VTIMEZONE
END:VCALENDAR