BEGIN:VCALENDAR
VERSION:2.0
PRODID:-//wp-events-plugin.com//7.2.3.1//EN
BEGIN:VEVENT
UID:0-16@reconopenluchtschool.nl
DTSTART;TZID=Europe/Amsterdam:20260525T000000
DTEND;TZID=Europe/Amsterdam:20260526T000000
DTSTAMP:20250814T102614Z
URL:https://reconopenluchtschool.nl/vso/events/pinksteren-en-een-roostervr
 ije-dag-voor-alle-klassen/
SUMMARY:Pinksteren en een roostervrije dag voor alle klassen
DESCRIPTION:
END:VEVENT
BEGIN:VTIMEZONE
TZID:Europe/Amsterdam
X-LIC-LOCATION:Europe/Amsterdam
BEGIN:DAYLIGHT
DTSTART:20260329T030000
TZOFFSETFROM:+0100
TZOFFSETTO:+0200
TZNAME:CEST
END:DAYLIGHT
END:VTIMEZONE
END:VCALENDAR