BEGIN:VCALENDAR
VERSION:2.0
PRODID:-//wp-events-plugin.com//7.2.3.1//EN
BEGIN:VEVENT
UID:0-14@reconopenluchtschool.nl
DTSTART;TZID=Europe/Amsterdam:20260427T000000
DTEND;TZID=Europe/Amsterdam:20260508T000000
DTSTAMP:20260120T134138Z
URL:https://reconopenluchtschool.nl/vso/events/meivakantie-6/
SUMMARY:Meivakantie (Let op voor de eindexamenkandidaten start op vrijdag 8
  mei het examen)
DESCRIPTION:
END:VEVENT
BEGIN:VTIMEZONE
TZID:Europe/Amsterdam
X-LIC-LOCATION:Europe/Amsterdam
BEGIN:DAYLIGHT
DTSTART:20260329T030000
TZOFFSETFROM:+0100
TZOFFSETTO:+0200
TZNAME:CEST
END:DAYLIGHT
END:VTIMEZONE
END:VCALENDAR